BEGIN:VCALENDAR
VERSION:2.0
PRODID:-//wp-events-plugin.com//7.2.3.1//EN
BEGIN:VEVENT
UID:20@wcbhb.org
DTSTART:20260423T180000Z
DTEND:20260423T180000Z
DTSTAMP:20260203T165033Z
URL:https://wcbhb.org/events/board-meeting-5/
SUMMARY:Board Meeting
DESCRIPTION:The Washington County Behavioral Health Board will hold its nex
 t board meeting on 04/23/2026 at 6:00PM All interested members of the publ
 ic are encouraged to attend. For more information\, contact the Washington
  County Behavioral Health Board at 740-374-6990 or visit our Facebook page
  Recovery is Beautiful.
END:VEVENT
END:VCALENDAR